Package: ChIPComp Version: 1.40.0 Command: /Library/Frameworks/R.framework/Resources/bin/R CMD build --keep-empty-dirs --no-resave-data ChIPComp StartedAt: 2025-11-17 19:47:22 -0500 (Mon, 17 Nov 2025) EndedAt: 2025-11-17 19:47:45 -0500 (Mon, 17 Nov 2025) EllapsedTime: 23.2 seconds RetCode: 0 Status: OK PackageFile: ChIPComp_1.40.0.tar.gz PackageFileSize: 596.2 KiB