Package: ChAMP Version: 2.40.0 Command: /home/biocbuild/bbs-3.22-bioc/R/bin/R CMD INSTALL ChAMP StartedAt: 2025-11-14 16:09:35 -0500 (Fri, 14 Nov 2025) EndedAt: 2025-11-14 16:10:39 -0500 (Fri, 14 Nov 2025) EllapsedTime: 64.4 seconds RetCode: 0 Status: OK