Package: ChAMP Version: 2.40.0 Command: /home/biocbuild/bbs-3.22-bioc/R/bin/R CMD build --keep-empty-dirs --no-resave-data --md5 ChAMP StartedAt: 2025-11-14 16:50:00 -0500 (Fri, 14 Nov 2025) EndedAt: 2025-11-14 16:51:59 -0500 (Fri, 14 Nov 2025) EllapsedTime: 119.2 seconds RetCode: 0 Status: OK PackageFile: ChAMP_2.40.0.tar.gz PackageFileSize: 7.95 MiB