Package: CexoR Version: 1.48.0 Command: /home/biocbuild/bbs-3.22-bioc/R/bin/R CMD INSTALL CexoR StartedAt: 2025-10-29 21:55:07 -0400 (Wed, 29 Oct 2025) EndedAt: 2025-10-29 21:55:44 -0400 (Wed, 29 Oct 2025) EllapsedTime: 36.9 seconds RetCode: 0 Status: OK