Package: CexoR Version: 1.48.0 Command: /home/biocbuild/bbs-3.22-bioc/R/bin/R CMD build --keep-empty-dirs --no-resave-data --md5 CexoR StartedAt: 2025-10-29 23:03:13 -0400 (Wed, 29 Oct 2025) EndedAt: 2025-10-29 23:04:12 -0400 (Wed, 29 Oct 2025) EllapsedTime: 59.0 seconds RetCode: 0 Status: OK PackageFile: CexoR_1.48.0.tar.gz PackageFileSize: 1.661 MiB