Package: CelliD Version: 1.18.0 Command: /home/biocbuild/bbs-3.22-bioc/R/bin/R CMD INSTALL CelliD StartedAt: 2025-11-03 15:58:16 -0500 (Mon, 03 Nov 2025) EndedAt: 2025-11-03 15:59:29 -0500 (Mon, 03 Nov 2025) EllapsedTime: 73.7 seconds RetCode: 0 Status: OK