Package: CelliD Version: 1.18.0 Command: /home/biocbuild/bbs-3.22-bioc/R/bin/R CMD build --keep-empty-dirs --no-resave-data --md5 CelliD StartedAt: 2025-11-03 16:44:05 -0500 (Mon, 03 Nov 2025) EndedAt: 2025-11-03 16:53:50 -0500 (Mon, 03 Nov 2025) EllapsedTime: 585.5 seconds RetCode: 0 Status: OK PackageFile: CelliD_1.18.0.tar.gz PackageFileSize: 2.507 MiB