Package: CellTrails Version: 1.27.1 Command: /home/biocbuild/bbs-3.22-bioc/R/bin/R CMD INSTALL CellTrails StartedAt: 2025-10-24 15:29:26 -0400 (Fri, 24 Oct 2025) EndedAt: 2025-10-24 15:29:55 -0400 (Fri, 24 Oct 2025) EllapsedTime: 29.3 seconds RetCode: 0 Status: OK