Package: CellTrails Version: 1.28.0 Command: /Library/Frameworks/R.framework/Resources/bin/R CMD INSTALL CellTrails StartedAt: 2025-11-06 15:12:12 -0500 (Thu, 06 Nov 2025) EndedAt: 2025-11-06 15:12:24 -0500 (Thu, 06 Nov 2025) EllapsedTime: 12.5 seconds RetCode: 0 Status: OK