Package: CellTrails Version: 1.28.0 Command: rm -rf CellTrails.buildbin-libdir && mkdir CellTrails.buildbin-libdir && /Users/biocbuild/BBS/utils/build-universal.sh CellTrails_1.28.0.tar.gz /Library/Frameworks/R.framework/Resources/bin/R CellTrails.buildbin-libdir StartedAt: 2025-11-06 22:58:54 -0500 (Thu, 06 Nov 2025) EndedAt: 2025-11-06 22:59:08 -0500 (Thu, 06 Nov 2025) EllapsedTime: 13.3 seconds RetCode: 0 Status: OK PackageFile: CellTrails_1.28.0.tgz PackageFileSize: 3.017 MiB