Package: CellTrails Version: 1.28.0 Command: /Library/Frameworks/R.framework/Resources/bin/R CMD INSTALL CellTrails StartedAt: 2025-11-20 16:58:22 -0500 (Thu, 20 Nov 2025) EndedAt: 2025-11-20 16:58:57 -0500 (Thu, 20 Nov 2025) EllapsedTime: 35.0 seconds RetCode: 0 Status: OK