Package: CellTrails Version: 1.28.0 Command: /Library/Frameworks/R.framework/Resources/bin/R CMD build --keep-empty-dirs --no-resave-data CellTrails StartedAt: 2025-11-20 21:39:52 -0500 (Thu, 20 Nov 2025) EndedAt: 2025-11-20 21:40:43 -0500 (Thu, 20 Nov 2025) EllapsedTime: 51.4 seconds RetCode: 0 Status: OK PackageFile: CellTrails_1.28.0.tar.gz PackageFileSize: 2.628 MiB