Package: CellTrails Version: 1.28.0 Command: rm -rf CellTrails.buildbin-libdir && mkdir CellTrails.buildbin-libdir && /Users/biocbuild/BBS/utils/build-universal.sh CellTrails_1.28.0.tar.gz /Library/Frameworks/R.framework/Resources/bin/R CellTrails.buildbin-libdir StartedAt: 2025-11-23 07:39:07 -0500 (Sun, 23 Nov 2025) EndedAt: 2025-11-23 07:40:02 -0500 (Sun, 23 Nov 2025) EllapsedTime: 55.7 seconds RetCode: 0 Status: OK PackageFile: CellTrails_1.28.0.tgz PackageFileSize: 3.009 MiB