Package: CellScore Version: 1.29.1 Command: /home/biocbuild/bbs-3.22-bioc/R/bin/R CMD INSTALL CellScore StartedAt: 2025-10-27 15:22:21 -0400 (Mon, 27 Oct 2025) EndedAt: 2025-10-27 15:22:42 -0400 (Mon, 27 Oct 2025) EllapsedTime: 20.2 seconds RetCode: 0 Status: OK