Package: CellScore Version: 1.30.0 Command: /Library/Frameworks/R.framework/Resources/bin/R CMD INSTALL CellScore StartedAt: 2025-11-03 15:24:55 -0500 (Mon, 03 Nov 2025) EndedAt: 2025-11-03 15:25:22 -0500 (Mon, 03 Nov 2025) EllapsedTime: 27.6 seconds RetCode: 0 Status: OK