Package: CellScore Version: 1.30.0 Command: /Library/Frameworks/R.framework/Resources/bin/R CMD build --keep-empty-dirs --no-resave-data CellScore StartedAt: 2025-11-03 16:23:47 -0500 (Mon, 03 Nov 2025) EndedAt: 2025-11-03 16:26:51 -0500 (Mon, 03 Nov 2025) EllapsedTime: 184.6 seconds RetCode: 1 Status: ERROR PackageFile: None PackageFileSize: NA