Package: CellNOptR Version: 1.56.0 Command: /Library/Frameworks/R.framework/Resources/bin/R CMD INSTALL CellNOptR StartedAt: 2025-11-10 15:08:11 -0500 (Mon, 10 Nov 2025) EndedAt: 2025-11-10 15:08:17 -0500 (Mon, 10 Nov 2025) EllapsedTime: 6.1 seconds RetCode: 0 Status: OK