Package: CellNOptR Version: 1.56.0 Command: /Library/Frameworks/R.framework/Resources/bin/R CMD build --keep-empty-dirs --no-resave-data CellNOptR StartedAt: 2025-11-10 15:53:03 -0500 (Mon, 10 Nov 2025) EndedAt: 2025-11-10 15:53:15 -0500 (Mon, 10 Nov 2025) EllapsedTime: 11.1 seconds RetCode: 0 Status: OK PackageFile: CellNOptR_1.56.0.tar.gz PackageFileSize: 3.588 MiB