Package: CellMapper Version: 1.36.0 Command: /Library/Frameworks/R.framework/Resources/bin/R CMD INSTALL CellMapper StartedAt: 2025-10-29 21:58:40 -0400 (Wed, 29 Oct 2025) EndedAt: 2025-10-29 21:58:52 -0400 (Wed, 29 Oct 2025) EllapsedTime: 12.1 seconds RetCode: 0 Status: OK