Package: CellMapper Version: 1.35.0 Command: /Library/Frameworks/R.framework/Resources/bin/R CMD INSTALL CellMapper StartedAt: 2025-10-27 15:06:34 -0400 (Mon, 27 Oct 2025) EndedAt: 2025-10-27 15:06:36 -0400 (Mon, 27 Oct 2025) EllapsedTime: 2.4 seconds RetCode: 0 Status: OK