Package: CellBench Version: 1.26.0 Command: /Library/Frameworks/R.framework/Resources/bin/R CMD INSTALL CellBench StartedAt: 2025-11-02 15:30:55 -0500 (Sun, 02 Nov 2025) EndedAt: 2025-11-02 15:31:07 -0500 (Sun, 02 Nov 2025) EllapsedTime: 11.6 seconds RetCode: 0 Status: OK