Package: CellBench Version: 1.26.0 Command: rm -rf CellBench.buildbin-libdir && mkdir CellBench.buildbin-libdir && /Users/biocbuild/BBS/utils/build-universal.sh CellBench_1.26.0.tar.gz /Library/Frameworks/R.framework/Resources/bin/R CellBench.buildbin-libdir StartedAt: 2025-11-02 22:58:47 -0500 (Sun, 02 Nov 2025) EndedAt: 2025-11-02 22:58:59 -0500 (Sun, 02 Nov 2025) EllapsedTime: 12.2 seconds RetCode: 0 Status: OK PackageFile: CellBench_1.26.0.tgz PackageFileSize: 3.091 MiB