Package: CellBench Version: 1.26.0 Command: /Library/Frameworks/R.framework/Resources/bin/R CMD INSTALL CellBench StartedAt: 2025-11-17 18:31:20 -0500 (Mon, 17 Nov 2025) EndedAt: 2025-11-17 18:31:32 -0500 (Mon, 17 Nov 2025) EllapsedTime: 11.2 seconds RetCode: 0 Status: OK