Package: CellBench Version: 1.26.0 Command: /Library/Frameworks/R.framework/Resources/bin/R CMD build --keep-empty-dirs --no-resave-data CellBench StartedAt: 2025-11-17 19:40:52 -0500 (Mon, 17 Nov 2025) EndedAt: 2025-11-17 19:41:16 -0500 (Mon, 17 Nov 2025) EllapsedTime: 24.2 seconds RetCode: 0 Status: OK PackageFile: CellBench_1.26.0.tar.gz PackageFileSize: 3.017 MiB