Package: CellBarcode Version: 1.15.0 Command: /home/biocbuild/bbs-3.22-bioc/R/bin/R CMD INSTALL CellBarcode StartedAt: 2025-10-27 15:53:57 -0400 (Mon, 27 Oct 2025) EndedAt: 2025-10-27 15:54:58 -0400 (Mon, 27 Oct 2025) EllapsedTime: 61.1 seconds RetCode: 0 Status: OK