Package: CellBarcode Version: 1.15.0 Command: /home/biocbuild/bbs-3.22-bioc/R/bin/R CMD build --keep-empty-dirs --no-resave-data --md5 CellBarcode StartedAt: 2025-10-27 16:42:24 -0400 (Mon, 27 Oct 2025) EndedAt: 2025-10-27 16:43:56 -0400 (Mon, 27 Oct 2025) EllapsedTime: 92.1 seconds RetCode: 0 Status: OK PackageFile: CellBarcode_1.15.0.tar.gz PackageFileSize: 3.177 MiB