Package: CeTF Version: 1.22.0 Command: /home/biocbuild/bbs-3.22-bioc/R/bin/R CMD INSTALL CeTF StartedAt: 2025-10-31 15:58:19 -0400 (Fri, 31 Oct 2025) EndedAt: 2025-10-31 15:59:18 -0400 (Fri, 31 Oct 2025) EllapsedTime: 59.5 seconds RetCode: 0 Status: OK