Package: CausalR Version: 1.41.0 Command: /home/biocbuild/bbs-3.22-bioc/R/bin/R CMD INSTALL CausalR StartedAt: 2025-10-28 15:04:50 -0400 (Tue, 28 Oct 2025) EndedAt: 2025-10-28 15:05:05 -0400 (Tue, 28 Oct 2025) EllapsedTime: 15.1 seconds RetCode: 0 Status: OK