Package: CausalR Version: 1.41.0 Command: /home/biocbuild/bbs-3.22-bioc/R/bin/R CMD build --keep-empty-dirs --no-resave-data --md5 CausalR StartedAt: 2025-10-28 16:38:55 -0400 (Tue, 28 Oct 2025) EndedAt: 2025-10-28 16:39:12 -0400 (Tue, 28 Oct 2025) EllapsedTime: 17.0 seconds RetCode: 0 Status: OK PackageFile: CausalR_1.41.0.tar.gz PackageFileSize: 579.5 KiB