Back to Multiple platform build/check report for BioC 3.22:   simplified   long
AB[C]DEFGHIJKLMNOPQRSTUVWXYZ

This page was generated on 2025-11-01 12:02 -0400 (Sat, 01 Nov 2025).

HostnameOSArch (*)R versionInstalled pkgs
nebbiolo2Linux (Ubuntu 24.04.3 LTS)x86_644.5.1 Patched (2025-08-23 r88802) -- "Great Square Root" 4901
lconwaymacOS 12.7.6 Montereyx86_644.5.1 Patched (2025-09-10 r88807) -- "Great Square Root" 4691
kjohnson3macOS 13.7.7 Venturaarm644.5.1 Patched (2025-09-10 r88807) -- "Great Square Root" 4637
Click on any hostname to see more info about the system (e.g. compilers)      (*) as reported by 'uname -p', except on Windows and Mac OS X

All results for package Category


To the developers/maintainers of the Category package:
- Allow up to 24 hours (and sometimes 48 hours) for your latest push to git@git.bioconductor.org:packages/Category.git to reflect on this report. See Troubleshooting Build Report for more information.
- Use the following Renviron settings to reproduce errors and warnings.
- If 'R CMD check' started to fail recently on the Linux builder(s) over a missing dependency, add the missing dependency to 'Suggests:' in your DESCRIPTION file. See Renviron.bioc for more information.

raw results

Package 287/2361HostnameOS / ArchINSTALLBUILDCHECKBUILD BIN
Category 2.76.0  (landing page)
Bioconductor Package Maintainer
Snapshot Date: 2025-10-31 13:45 -0400 (Fri, 31 Oct 2025)
git_url: https://git.bioconductor.org/packages/Category
git_branch: RELEASE_3_22
git_last_commit: df2c742
git_last_commit_date: 2025-10-29 09:56:37 -0400 (Wed, 29 Oct 2025)
nebbiolo2Linux (Ubuntu 24.04.3 LTS) / x86_64  OK    OK    OK  UNNEEDED, same version is already published
lconwaymacOS 12.7.6 Monterey / x86_64  OK    OK    OK    OK  UNNEEDED, same version is already published
kjohnson3macOS 13.7.7 Ventura / arm64  OK    OK    OK    OK  UNNEEDED, same version is already published



Results for Bioconductor software packages that depend directly on package Category

QUICK STATSOS / ArchINSTALLBUILDCHECKBUILD BIN
nebbiolo2Linux (Ubuntu 24.04.3 LTS) / x86_64
009
009
0036
lconwaymacOS 12.7.6 Monterey / x86_64
009
009
0036
009
kjohnson3macOS 13.7.7 Ventura / arm64
009
009
0036
009
Package 1/9HostnameOS / ArchINSTALLBUILDCHECKBUILD BIN
categoryCompare 1.54.0  (landing page)
Robert M. Flight
git_last_commit: 3381da0
git_last_commit_date: 2025-10-29 10:11:00 -0400
nebbiolo2Linux (Ubuntu 24.04.3 LTS) / x86_64  OK    OK    OK  UNNEEDED, same version is already published
lconwaymacOS 12.7.6 Monterey / x86_64  OK    OK    OK    OK  UNNEEDED, same version is already published
kjohnson3macOS 13.7.7 Ventura / arm64  OK    OK    OK    OK  UNNEEDED, same version is already published
Package 2/9HostnameOS / ArchINSTALLBUILDCHECKBUILD BIN
GmicR 1.24.0  (landing page)
Richard Virgen-Slane
git_last_commit: a9a4b5a
git_last_commit_date: 2025-10-29 10:54:40 -0400
nebbiolo2Linux (Ubuntu 24.04.3 LTS) / x86_64  OK    OK    WARNINGS  UNNEEDED, same version is already published
lconwaymacOS 12.7.6 Monterey / x86_64  OK    OK    WARNINGS    OK  UNNEEDED, same version is already published
kjohnson3macOS 13.7.7 Ventura / arm64  OK    OK    WARNINGS    OK  UNNEEDED, same version is already published
Package 3/9HostnameOS / ArchINSTALLBUILDCHECKBUILD BIN
GOstats 2.76.0  (landing page)
Bioconductor Package Maintainer
git_last_commit: 7c7bec8
git_last_commit_date: 2025-10-29 09:55:01 -0400
nebbiolo2Linux (Ubuntu 24.04.3 LTS) / x86_64  OK    OK    OK  UNNEEDED, same version is already published
lconwaymacOS 12.7.6 Monterey / x86_64  OK    OK    OK    OK  UNNEEDED, same version is already published
kjohnson3macOS 13.7.7 Ventura / arm64  OK    OK    OK    OK  UNNEEDED, same version is already published
Package 4/9HostnameOS / ArchINSTALLBUILDCHECKBUILD BIN
interactiveDisplay 1.48.0  (landing page)
Bioconductor Package Maintainer
git_last_commit: a68c9ad
git_last_commit_date: 2025-10-29 10:17:08 -0400
nebbiolo2Linux (Ubuntu 24.04.3 LTS) / x86_64  OK    OK    OK  UNNEEDED, same version is already published
lconwaymacOS 12.7.6 Monterey / x86_64  OK    OK    OK    OK  UNNEEDED, same version is already published
kjohnson3macOS 13.7.7 Ventura / arm64  OK    OK    OK    OK  UNNEEDED, same version is already published
Package 5/9HostnameOS / ArchINSTALLBUILDCHECKBUILD BIN
meshr 2.16.0  (landing page)
Koki Tsuyuzaki
git_last_commit: 43697db
git_last_commit_date: 2025-10-29 10:19:23 -0400
nebbiolo2Linux (Ubuntu 24.04.3 LTS) / x86_64  OK    OK    OK  UNNEEDED, same version is already published
lconwaymacOS 12.7.6 Monterey / x86_64  OK    OK    OK    OK  UNNEEDED, same version is already published
kjohnson3macOS 13.7.7 Ventura / arm64  OK    OK    OK    OK  UNNEEDED, same version is already published
Package 6/9HostnameOS / ArchINSTALLBUILDCHECKBUILD BIN
miRLAB 1.40.0  (landing page)
Thuc Duy Le
git_last_commit: d343103
git_last_commit_date: 2025-10-29 10:26:51 -0400
nebbiolo2Linux (Ubuntu 24.04.3 LTS) / x86_64  OK    OK    WARNINGS  UNNEEDED, same version is already published
lconwaymacOS 12.7.6 Monterey / x86_64  OK    OK    WARNINGS    OK  UNNEEDED, same version is already published
kjohnson3macOS 13.7.7 Ventura / arm64  OK    OK    WARNINGS    OK  UNNEEDED, same version is already published
Package 7/9HostnameOS / ArchINSTALLBUILDCHECKBUILD BIN
phenoTest 1.58.0  (landing page)
Evarist Planet
git_last_commit: 25bf541
git_last_commit_date: 2025-10-29 10:06:30 -0400
nebbiolo2Linux (Ubuntu 24.04.3 LTS) / x86_64  OK    OK    OK  UNNEEDED, same version is already published
lconwaymacOS 12.7.6 Monterey / x86_64  OK    OK    OK    OK  UNNEEDED, same version is already published
kjohnson3macOS 13.7.7 Ventura / arm64  OK    OK    OK    OK  UNNEEDED, same version is already published
Package 8/9HostnameOS / ArchINSTALLBUILDCHECKBUILD BIN
ReportingTools 2.50.0  (landing page)
Jason A. Hackney , Gabriel Becker
git_last_commit: 9a53d36
git_last_commit_date: 2025-10-29 10:12:14 -0400
nebbiolo2Linux (Ubuntu 24.04.3 LTS) / x86_64  OK    OK    OK  UNNEEDED, same version is already published
lconwaymacOS 12.7.6 Monterey / x86_64  OK    OK    OK    OK  UNNEEDED, same version is already published
kjohnson3macOS 13.7.7 Ventura / arm64  OK    OK    OK    OK  UNNEEDED, same version is already published
Package 9/9HostnameOS / ArchINSTALLBUILDCHECKBUILD BIN
scTensor 2.20.0  (landing page)
Koki Tsuyuzaki
git_last_commit: 11f50bb
git_last_commit_date: 2025-10-29 10:49:00 -0400
nebbiolo2Linux (Ubuntu 24.04.3 LTS) / x86_64  OK    OK    WARNINGS  UNNEEDED, same version is already published
lconwaymacOS 12.7.6 Monterey / x86_64  OK    OK    WARNINGS    OK  UNNEEDED, same version is already published
kjohnson3macOS 13.7.7 Ventura / arm64  OK    OK    WARNINGS    OK  UNNEEDED, same version is already published