Package: CardinalIO Version: 1.8.0 Command: /Library/Frameworks/R.framework/Resources/bin/R CMD INSTALL CardinalIO StartedAt: 2025-11-03 15:19:27 -0500 (Mon, 03 Nov 2025) EndedAt: 2025-11-03 15:19:54 -0500 (Mon, 03 Nov 2025) EllapsedTime: 26.9 seconds RetCode: 0 Status: OK