Package: CardinalIO Version: 1.8.0 Command: rm -rf CardinalIO.buildbin-libdir && mkdir CardinalIO.buildbin-libdir && /Users/biocbuild/BBS/utils/build-universal.sh CardinalIO_1.8.0.tar.gz /Library/Frameworks/R.framework/Resources/bin/R CardinalIO.buildbin-libdir StartedAt: 2025-11-04 01:31:09 -0500 (Tue, 04 Nov 2025) EndedAt: 2025-11-04 01:31:35 -0500 (Tue, 04 Nov 2025) EllapsedTime: 25.5 seconds RetCode: 0 Status: OK PackageFile: CardinalIO_1.8.0.tgz PackageFileSize: 1.254 MiB