Package: CardinalIO Version: 1.8.0 Command: /Library/Frameworks/R.framework/Resources/bin/R CMD INSTALL CardinalIO StartedAt: 2025-11-02 15:06:51 -0500 (Sun, 02 Nov 2025) EndedAt: 2025-11-02 15:06:57 -0500 (Sun, 02 Nov 2025) EllapsedTime: 6.0 seconds RetCode: 0 Status: OK