Package: CardinalIO Version: 1.8.0 Command: /Library/Frameworks/R.framework/Resources/bin/R CMD build --keep-empty-dirs --no-resave-data CardinalIO StartedAt: 2025-11-02 15:50:43 -0500 (Sun, 02 Nov 2025) EndedAt: 2025-11-02 15:50:54 -0500 (Sun, 02 Nov 2025) EllapsedTime: 11.1 seconds RetCode: 0 Status: OK PackageFile: CardinalIO_1.8.0.tar.gz PackageFileSize: 968.5 KiB