Package: CardinalIO Version: 1.8.0 Command: rm -rf CardinalIO.buildbin-libdir && mkdir CardinalIO.buildbin-libdir && /Users/biocbuild/BBS/utils/build-universal.sh CardinalIO_1.8.0.tar.gz /Library/Frameworks/R.framework/Resources/bin/R CardinalIO.buildbin-libdir StartedAt: 2025-11-02 22:58:28 -0500 (Sun, 02 Nov 2025) EndedAt: 2025-11-02 22:58:35 -0500 (Sun, 02 Nov 2025) EllapsedTime: 7.1 seconds RetCode: 0 Status: OK PackageFile: CardinalIO_1.8.0.tgz PackageFileSize: 1.247 MiB