Package: Cardinal Version: 3.11.1 Command: /home/biocbuild/bbs-3.22-bioc/R/bin/R CMD build --keep-empty-dirs --no-resave-data --md5 Cardinal StartedAt: 2025-10-24 16:47:57 -0400 (Fri, 24 Oct 2025) EndedAt: 2025-10-24 16:55:18 -0400 (Fri, 24 Oct 2025) EllapsedTime: 441.4 seconds RetCode: 0 Status: OK PackageFile: Cardinal_3.11.1.tar.gz PackageFileSize: 5.174 MiB