Package: CalibraCurve Version: 1.0.0 Command: /home/biocbuild/bbs-3.22-bioc/R/bin/R CMD INSTALL CalibraCurve StartedAt: 2025-11-25 16:04:55 -0500 (Tue, 25 Nov 2025) EndedAt: 2025-11-25 16:05:20 -0500 (Tue, 25 Nov 2025) EllapsedTime: 25.1 seconds RetCode: 0 Status: OK