Package: CSSQ Version: 1.22.0 Command: /home/biocbuild/bbs-3.22-bioc/R/bin/R CMD check --install=check:CSSQ.install-out.txt --library=/home/biocbuild/bbs-3.22-bioc/R/site-library --timings CSSQ_1.22.0.tar.gz StartedAt: 2025-11-16 22:42:09 -0500 (Sun, 16 Nov 2025) EndedAt: 2025-11-16 22:47:35 -0500 (Sun, 16 Nov 2025) EllapsedTime: 326.2 seconds RetCode: 0 Status: OK CheckDir: CSSQ.Rcheck Warnings: 0