Package: CSOA Version: 0.99.3 Command: /home/biocbuild/bbs-3.22-bioc/R/bin/R CMD INSTALL CSOA StartedAt: 2025-10-28 15:16:43 -0400 (Tue, 28 Oct 2025) EndedAt: 2025-10-28 15:17:19 -0400 (Tue, 28 Oct 2025) EllapsedTime: 36.1 seconds RetCode: 0 Status: OK