Package: CSOA Version: 0.99.3 Command: /Library/Frameworks/R.framework/Resources/bin/R CMD INSTALL CSOA StartedAt: 2025-10-27 15:11:05 -0400 (Mon, 27 Oct 2025) EndedAt: 2025-10-27 15:11:20 -0400 (Mon, 27 Oct 2025) EllapsedTime: 14.6 seconds RetCode: 0 Status: OK