Package: CSOA Version: 1.0.0 Maintainer: Andrei-Florian Stoica MaintainerEmail: andreistoica at foxmail.com git_url: https://git.bioconductor.org/packages/CSOA git_branch: RELEASE_3_22 git_last_commit: 9b11f08 git_last_commit_date: 2025-10-29 11:37:44 -0400 (Wed, 29 Oct 2025)