Package: CSAR Version: 1.62.0 Command: /Library/Frameworks/R.framework/Resources/bin/R CMD INSTALL CSAR StartedAt: 2025-11-03 15:51:33 -0500 (Mon, 03 Nov 2025) EndedAt: 2025-11-03 15:51:46 -0500 (Mon, 03 Nov 2025) EllapsedTime: 13.3 seconds RetCode: 0 Status: OK