Package: CSAR Version: 1.62.0 Command: /Library/Frameworks/R.framework/Resources/bin/R CMD build --keep-empty-dirs --no-resave-data CSAR StartedAt: 2025-11-03 16:37:51 -0500 (Mon, 03 Nov 2025) EndedAt: 2025-11-03 16:38:24 -0500 (Mon, 03 Nov 2025) EllapsedTime: 33.1 seconds RetCode: 0 Status: OK PackageFile: CSAR_1.62.0.tar.gz PackageFileSize: 232.8 KiB