Package: CSAR Version: 1.62.0 Command: /Library/Frameworks/R.framework/Resources/bin/R CMD INSTALL CSAR StartedAt: 2025-11-03 15:31:20 -0500 (Mon, 03 Nov 2025) EndedAt: 2025-11-03 15:31:24 -0500 (Mon, 03 Nov 2025) EllapsedTime: 4.1 seconds RetCode: 0 Status: OK