Package: CRImage Version: 1.57.0 Command: /home/biocbuild/bbs-3.22-bioc/R/bin/R CMD INSTALL CRImage StartedAt: 2025-10-28 15:11:57 -0400 (Tue, 28 Oct 2025) EndedAt: 2025-10-28 15:12:07 -0400 (Tue, 28 Oct 2025) EllapsedTime: 9.7 seconds RetCode: 0 Status: OK