Package: CRImage Version: 1.58.0 Command: /Library/Frameworks/R.framework/Resources/bin/R CMD INSTALL CRImage StartedAt: 2025-11-03 15:19:30 -0500 (Mon, 03 Nov 2025) EndedAt: 2025-11-03 15:19:45 -0500 (Mon, 03 Nov 2025) EllapsedTime: 14.9 seconds RetCode: 0 Status: OK