Package: CRImage Version: 1.58.0 Command: rm -rf CRImage.buildbin-libdir && mkdir CRImage.buildbin-libdir && /Users/biocbuild/BBS/utils/build-universal.sh CRImage_1.58.0.tar.gz /Library/Frameworks/R.framework/Resources/bin/R CRImage.buildbin-libdir StartedAt: 2025-11-04 01:34:46 -0500 (Tue, 04 Nov 2025) EndedAt: 2025-11-04 01:35:03 -0500 (Tue, 04 Nov 2025) EllapsedTime: 17.3 seconds RetCode: 0 Status: OK PackageFile: CRImage_1.58.0.tgz PackageFileSize: 6.549 MiB