Package: CRISPRball Version: 1.6.0 Command: /home/biocbuild/bbs-3.22-bioc/R/bin/R CMD INSTALL CRISPRball StartedAt: 2025-11-06 15:56:40 -0500 (Thu, 06 Nov 2025) EndedAt: 2025-11-06 15:57:15 -0500 (Thu, 06 Nov 2025) EllapsedTime: 35.7 seconds RetCode: 0 Status: OK