Package: CPSM Version: 1.2.0 Command: /Library/Frameworks/R.framework/Resources/bin/R CMD build --keep-empty-dirs --no-resave-data CPSM StartedAt: 2025-11-03 16:36:16 -0500 (Mon, 03 Nov 2025) EndedAt: 2025-11-03 16:39:20 -0500 (Mon, 03 Nov 2025) EllapsedTime: 183.8 seconds RetCode: 0 Status: OK PackageFile: CPSM_1.2.0.tar.gz PackageFileSize: 4.313 MiB