Package: CPSM Version: 1.2.0 Command: /Library/Frameworks/R.framework/Resources/bin/R CMD INSTALL CPSM StartedAt: 2025-11-17 17:54:57 -0500 (Mon, 17 Nov 2025) EndedAt: 2025-11-17 17:55:11 -0500 (Mon, 17 Nov 2025) EllapsedTime: 13.9 seconds RetCode: 0 Status: OK